BEGIN:VCALENDAR
VERSION:2.0
PRODID:-//heilbronn.digital - ECPv6.15.20//NONSGML v1.0//EN
CALSCALE:GREGORIAN
METHOD:PUBLISH
X-WR-CALNAME:heilbronn.digital
X-ORIGINAL-URL:https://heilbronn.siller.io
X-WR-CALDESC:Veranstaltungen für heilbronn.digital
REFRESH-INTERVAL;VALUE=DURATION:PT1H
X-Robots-Tag:noindex
X-PUBLISHED-TTL:PT1H
BEGIN:VTIMEZONE
TZID:UTC
BEGIN:STANDARD
TZOFFSETFROM:+0000
TZOFFSETTO:+0000
TZNAME:UTC
DTSTART:20250101T000000
END:STANDARD
END:VTIMEZONE
BEGIN:VEVENT
DTSTART;TZID=UTC:20260422T000000
DTEND;TZID=UTC:20260422T235959
DTSTAMP:20260422T030959
CREATED:20260420T012758Z
LAST-MODIFIED:20260420T012758Z
UID:1421517-1776816000-1776902399@heilbronn.siller.io
SUMMARY:KI\, was geht?
DESCRIPTION:Künstliche Intelligenz verändert immer stärker unseren Alltag. Diese Sonderausstellung bietet dir einen Überblick\, wie vielfältig KI bereits genutzt wird. An über 50 interaktiven Stationen tauchst du ein in die faszinierende Welt von KI-Systemen. Dies führt rasch auch zu wichtigen Fragen: Wozu und wie wollen wir KI eigentlich nutzen? Würdest du zum Beispiel einer KI im Klassenzimmer oder im Krankenhaus vertrauen? Bringe deine Meinung in die Ausstellung mit ein und schaue\, wie andere abgestimmt haben! \nAuf dem „Testfeld“ kannst du ausprobieren\, was Künstliche Intelligenz auf verschiedenen Gebieten längst kann. Erstelle Bilder\, spiele „Vier gewinnt“ mit einer KI oder finde heraus\, ob eine KI dein selbstgebautes Tier erkennt. \nIn der „Blackbox“ erfährst du mehr darüber\, was hinter der Technologie steckt: Wie funktioniert ein neuronales Netz? Und wie wird eine KI eigentlich trainiert? \nIm „Thinktank“ denkst du über die Nutzung von KI in unserer Welt nach: Welche Chancen bietet KI? Wo liegen mögliche Probleme oder Risiken? Deine persönlichen Einschätzungen kannst du auf einer „Lochkarte“ festhalten. Beteilige dich so an einem Dialog über die Nutzung dieser Zukunftstechnologie.
URL:https://heilbronn.siller.io/event/8786-2026-04-22/
LOCATION:experimenta Heilbronn\, Experimenta-Platz\, Heilbronn\, 74072\, Deutschland
CATEGORIES:Kunst und Ausstellungen
ATTACH;FMTTYPE=image/jpeg:https://heilbronn.siller.io/wp-content/uploads/2025/12/2025-12-11-experimenta-ki-was-geht-1920x1200px-hmg.jpg
END:VEVENT
BEGIN:VEVENT
DTSTART;TZID=UTC:20260422T000000
DTEND;TZID=UTC:20260422T235959
DTSTAMP:20260422T030959
CREATED:20260420T013743Z
LAST-MODIFIED:20260420T013743Z
UID:1664441-1776816000-1776902399@heilbronn.siller.io
SUMMARY:SCHULKUNST-Ausstellung Textil
DESCRIPTION:Zum dritten Mal findet die SCHULKUNST-Ausstellung im Museum im Deutschhof statt. Schülerinnen und Schüler aller Schularten der Region sind aufgefordert\, sich mit dem Thema „Textil“ auseinanderzusetzen: vom Faden und Gewebe bis hin zu grafischen oder malerischen Ansätzen.
URL:https://heilbronn.siller.io/event/9000-2026-04-22/
LOCATION:Museum im Deutschhof\, Deutschhofstraße 6\, Heilbronn\, 74072\, Deutschland
CATEGORIES:Kunst und Ausstellungen
ATTACH;FMTTYPE=image/jpeg:https://heilbronn.siller.io/wp-content/uploads/2026/02/250121_Textil_Wortmarke_Druck.jpg
END:VEVENT
BEGIN:VEVENT
DTSTART;TZID=UTC:20260422T000000
DTEND;TZID=UTC:20260422T235959
DTSTAMP:20260422T030959
CREATED:20260420T014435Z
LAST-MODIFIED:20260420T014435Z
UID:1724818-1776816000-1776902399@heilbronn.siller.io
SUMMARY:Fake News: Desinformation erkennen
DESCRIPTION:Die Plakat-Ausstellung „Fake News: Desinformation erkennen“ zeigt verschiedene Dimensionen von Fake News. Sie führt in die wichtigsten Begriffe ein und gibt einen Überblick über die Geschichte und Mechanismen von Desinformation.\nEbenso zeigt die Ausstellung\, wie sich die gezielte Manipulation der öffentlichen Meinung auf demokratische Prozesse auswirken kann. Praktische Tipps und Werkzeuge zur Überprüfung der Glaubwürdigkeit von Informationen und somit zum Schutz vor Desinformation werden vorgestellt. QR-Codes führen zu interaktiven Elementen und weiteren digitalen Informationsquellen. \nDie Plakatausstellung wird empfohlen für Erwachsene und Jugendliche ab der 8. Klasse.
URL:https://heilbronn.siller.io/event/9162-2026-04-22/
LOCATION:Stadtbibliothek\, Berliner Platz 12\, Heilbronn-Innenstadt\, 74072\, Deutschland
CATEGORIES:Kunst und Ausstellungen
ATTACH;FMTTYPE=image/jpeg:https://heilbronn.siller.io/wp-content/uploads/2026/03/v_001_0000013713-1.jpg
END:VEVENT
BEGIN:VEVENT
DTSTART;TZID=UTC:20260422T100000
DTEND;TZID=UTC:20260422T123000
DTSTAMP:20260422T030959
CREATED:20260420T013806Z
LAST-MODIFIED:20260420T013806Z
UID:1664633-1776852000-1776861000@heilbronn.siller.io
SUMMARY:Coffee & Play
DESCRIPTION:Macht es euch bei uns mit euren Kids gemütlich und tauscht euch bei einer Tasse Kaffee aus während die Kleinen in unserer Spielecke auf Entdeckungstour gehen. \nUnser Familienraum ist liebevoll eingerichtet und bietet Spielsachen für Kinder von 0\,5 bis 4 Jahren. Ältere Geschwisterkinder\, Papas\, Omas\, Opas\, Tanten & Onkel sind auch jederzeit willkommen. \nWir freuen uns auf euren Besuch!
URL:https://heilbronn.siller.io/event/9007-2026-04-22/
LOCATION:Kunterbunt Family Concept Store\, Innsbrucker Str. 32\, Heilbronn\, 74072\, Deutschland
CATEGORIES:Kinder-, Jugend- und Familienevents
ATTACH;FMTTYPE=image/jpeg:https://heilbronn.siller.io/wp-content/uploads/2026/02/697a865a180b8.jpg
END:VEVENT
BEGIN:VEVENT
DTSTART;TZID=UTC:20260422T120000
DTEND;TZID=UTC:20260422T124000
DTSTAMP:20260422T030959
CREATED:20260420T013627Z
LAST-MODIFIED:20260420T013627Z
UID:1664024-1776859200-1776861600@heilbronn.siller.io
SUMMARY:WKO - Lunchkonzert
DESCRIPTION:Brahms ist Chefsache! Risto Joost dirigiert den sinfonischen Erstling des von Robert Schumann als musikalischen »Messias« bezeichneten Romantikers. Für ihn war die Königsgattung Sinfonie eine »Angelegenheit von Leben und Tod« – eine ernste Sache für ein Mittagsständchen\, die sicher Appetit auf mehr macht! \nJOHANNES BRAHMS\nSinfonie Nr. 1 c-Moll op. 68 \nRisto Joost Leitung
URL:https://heilbronn.siller.io/event/8971-2026-04-22/
LOCATION:Harmonie Heilbronn\, Allee 28\, Heilbronn\, 74072\, Deutschland
CATEGORIES:Konzerte
ATTACH;FMTTYPE=image/jpeg:https://heilbronn.siller.io/wp-content/uploads/2026/02/6973759a0d4c4.jpg
END:VEVENT
BEGIN:VEVENT
DTSTART;TZID=UTC:20260422T143000
DTEND;TZID=UTC:20260422T160000
DTSTAMP:20260422T030959
CREATED:20260420T012150Z
LAST-MODIFIED:20260420T012150Z
UID:1617906-1776868200-1776873600@heilbronn.siller.io
SUMMARY:Offene Mittwochsrunde Sigune Zimmermann
DESCRIPTION:Lesung mit Sigune Zimmermann
URL:https://heilbronn.siller.io/event/7612-2026-04-22/
LOCATION:Diakonie Kreisdiakonieverband Heilbronn Diakonie im Heilbronner Land\, Schellengasse 7-9\, Heilbronn\, 74072\, Deutschland
CATEGORIES:Vorträge, Lesungen und Workshops
ATTACH;FMTTYPE=image/jpeg:https://heilbronn.siller.io/wp-content/uploads/2026/01/lesung_24.jpg
END:VEVENT
BEGIN:VEVENT
DTSTART;TZID=UTC:20260422T143000
DTEND;TZID=UTC:20260422T160000
DTSTAMP:20260422T030959
CREATED:20260420T015931Z
LAST-MODIFIED:20260420T015931Z
UID:1908042-1776868200-1776873600@heilbronn.siller.io
SUMMARY:EARTH WEEK HHN: Blumen werfen erlaubt - Samenbomben-Bastelaktion
DESCRIPTION:Bei der Samenbomben-Bastelaktion im Rahmen der Earth Week an der Hochschule Heilbronn kannst du kleine „Blumenbomben“ aus Erde\, Ton und Samen herstellen – und damit graue Ecken in blühende Orte verwandeln. Ganz nebenbei erfährst du\, wie einfach es ist\, etwas für Biodiversität zu tun. Komm vorbei und werde kreativ! Die Aktion findet vor der Mensa am TechCampus in Heilbronn-Sontheim statt und wird von Stipendiat*Innen im HHN Stipendium Grüne Zukunft organisiert. \nDie Teilnahme ist kostenlos. Gartenhandschuhe sind selbst mitzubringen. Die Veranstaltung ist Teil der Earth Week an der Hochschule Heilbronn.
URL:https://heilbronn.siller.io/event/9400-2026-04-22/
LOCATION:Hochschule Heilbronn: TechCampus HHN\, Max-Planck-Str. 39\, Heilbronn-Sontheim\, 74081\, Deutschland
CATEGORIES:Kinder-, Jugend- und Familienevents
ATTACH;FMTTYPE=image/jpeg:https://heilbronn.siller.io/wp-content/uploads/2026/04/69ce6fb34adb6-1.jpg
END:VEVENT
BEGIN:VEVENT
DTSTART;TZID=UTC:20260422T143000
DTEND;TZID=UTC:20260422T235959
DTSTAMP:20260422T030959
CREATED:20260420T010610Z
LAST-MODIFIED:20260420T010610Z
UID:1243074-1776868200-1776902399@heilbronn.siller.io
SUMMARY:Weinpavillon Neckarbühne
DESCRIPTION:Der Ort an der Neckarbühne ist einer der schönsten in Heilbronn. Am Weinpavillon der Wein-Villa-Gesellschafter werden  in wunderbarer Atmosphäre Heilbronner Weine ausgeschenkt. Mit kleinen Gerichten à la schwäbische Tapas steht damit dem perfekten Sommerabend am Neckar nichts mehr im Weg. \nAusgeschenkt wird das Weinsortiment der 12 Wein-Villa-Betriebe und der Genossenschaftskellerei Heilbronn. An einzelnen Tagen werden auch die regionalen Jungwinzer Wein.Im.Puls ihre Weine präsentieren. Gastronomisch verwöhnt Wein-Vila-Küchenchef Jürgen Sawall die Gäste des Pavillons mit einfachen\, in der Wein-Villa-Küche vorbereiteten Gerichten\, wie zum Beispiel einem Wengerter-Fladen\, verschiedene frische Aufstriche und ein Vesperbrettle. \nStudierende aufgepasst! An jedem ersten Dienstag im Monat gibt es für Studierende einen Nachlass auf Wein von 1 Euro pro Glas und 3 Euro pro Flasche. \nÖffnungszeiten:\nMontag (bei günstiger Witterung): von 17 bis 23 Uhr – nur Getränke\nDienstag bis Freitag: ab 14:30 Uhr\nSamstag und Sonntag: ab 13 Uhr\nÖffnungszeiten können variieren. 
URL:https://heilbronn.siller.io/event/711-2026-04-22/
LOCATION:Neckarbühne\, Untere Neckarstraße\, Heilbronn-Innenstadt\, 74072\, Deutschland
CATEGORIES:Events und Feste
ATTACH;FMTTYPE=image/jpeg:https://heilbronn.siller.io/wp-content/uploads/2026/02/weinpavillon-neckarbuehne.jpg
END:VEVENT
BEGIN:VEVENT
DTSTART;TZID=UTC:20260422T153000
DTEND;TZID=UTC:20260422T173000
DTSTAMP:20260422T030959
CREATED:20260420T020126Z
LAST-MODIFIED:20260420T020126Z
UID:1908275-1776871800-1776879000@heilbronn.siller.io
SUMMARY:DaVini Kids - Kreativität neu erleben
DESCRIPTION:Mit DaVini Studio entfalten Kinder von 3 bis 12 Jahren auf spielerische Weise ihre Kreativität. Über ein integriertes Tablet gestalten sie ihre eigenen Ideen ganz intuitiv.\nUnterstützt von künstlicher Intelligenz entstehen dabei einzigartige Bilder\, die jedes Kind aktiv mitentwickelt.\nDas Besondere: Die Kunstwerke werden sofort ausgedruckt und können direkt vor Ort mit liebevoll bereitgestellten Mal-und Bastelmaterialien weitergestaltet werden.\nAuf Wunsch verwandeln sich die Bilder sogar in kleine Videos oder zauberhafte Bilderbuchgeschichten.\nEin besonderes Erlebnis\, das Kinder begeistert und Eltern entspannte Momente genießen lässt.
URL:https://heilbronn.siller.io/event/9434-2026-04-22/
LOCATION:Kunterbunt Family Concept Store\, Innsbrucker Str. 32\, Heilbronn\, 74072\, Deutschland
CATEGORIES:Erlebniswochen,Kinder-, Jugend- und Familienevents
ATTACH;FMTTYPE=image/jpeg:https://heilbronn.siller.io/wp-content/uploads/2026/04/69dd5cbc57d60.jpeg
END:VEVENT
BEGIN:VEVENT
DTSTART;TZID=UTC:20260422T160000
DTEND;TZID=UTC:20260422T180000
DTSTAMP:20260422T030959
CREATED:20260420T011150Z
LAST-MODIFIED:20260420T011150Z
UID:1400322-1776873600-1776880800@heilbronn.siller.io
SUMMARY:Heilbronn baut auf - ein Stadtspaziergang zu Gebäuden der 50er Jahre
DESCRIPTION:Nach den Zerstörungen des Krieges begann in Heilbronn eine Zeit des Aufbruchs: Der Wiederaufbau formte eine neue Stadt\, in der Tradition und Moderne aufeinandertreffen. Viele Bauten aus den Fünfziger Jahren bleiben heute oft unbeachtet – dabei prägen sie mit ihrer klaren Formensprache und ihrem besonderen Charme ganze Straßenzüge und Plätze. \nBei diesem Stadtspaziergang entdecken wir die architektonischen Spuren jener Jahre neu: Wir folgen den Ideen der Wiederaufbauplanung und richten unseren Blick auf die städtebaulichen Qualitäten\, die Heilbronn bis heute prägen. \nEin Rundgang für alle\, die die Stadt mit neuen Augen sehen möchten – zwischen Geschichte\, Nachkriegsmoderne und dem Geist des Neubeginns. \nTreffpunkt: Marktplatz Heilbronn \nAnmeldung in der Heilbronner Tourist-Information oder direkt online.\nEin Tagesticket im Heilbronner-Hohenloher-Haller-Nahverkehr (HNV-Gesamtnetz) ist inklusive. Um diesen Service nutzen zu können\, muss das Ticket bereits vorab gekauft werden. Bus und Stadtbahn können dann drei Stunden vor der Führung und im Anschluss bis Betriebsschluss genutzt werden.
URL:https://heilbronn.siller.io/event/1798-2026-04-22/
LOCATION:Heilbronn\, Heilbronn\, 74072\, Deutschland
CATEGORIES:Erlebniswochen,Führungen
ATTACH;FMTTYPE=image/jpeg:https://heilbronn.siller.io/wp-content/uploads/2025/12/Nikolaikirche-Suelmerstrasse_2021_rs_KBAugust22.jpg
END:VEVENT
BEGIN:VEVENT
DTSTART;TZID=UTC:20260422T170000
DTEND;TZID=UTC:20260422T180000
DTSTAMP:20260422T030959
CREATED:20260420T012240Z
LAST-MODIFIED:20260420T012240Z
UID:489653-1776877200-1776880800@heilbronn.siller.io
SUMMARY:LITTLE STREET DANCER – Hip Hop und Street Dance für Kids
DESCRIPTION:Was können Kinder aus dem Kurs mitnehmen?\nIn unserem Hip Hop und Street Dance Kurs entdeckt dein Kind coole Moves und lernt die Grundschritte dieser dynamischen Tanzform mit einer Vielzahl von verschiedenen Tanzstilen. Gemeinsam mit anderen Kindern wird eine eigene\, kreative Choreographie entwickelt – ein Erfolgserlebnis\, das Selbstbewusstsein stärkt und gleichzeitig jede Menge Spaß macht. Durch die Verbindung von Musik und Bewegung wird spielerisch das Rhythmusgefühl gefördert\, während Freestyle-Elemente Raum für individuelle Kreativität bieten. Dein Kind erlebt echten Teamgeist\, denn zusammen entstehen beeindruckende Choreographien und unvergessliche Erfolgsmomente.\nMit energiegeladenen Rhythmen und inspirierenden Übungen wird Tanzen zu einer Freude\, die weit über den Kurs hinaus wirkt – eine Erfahrung\, die begeistert und nachhaltig wirkt! Was ist sonst noch mitzubringen? Bequeme Kleidung und geeignetes Schuhwerk wie z.B. separate Turnschuhe oder alternativ Turnschläppchen und etwas zu trinken.Trainerin: Meli Gutöhrlein
URL:https://heilbronn.siller.io/event/7890-2026-04-22/
LOCATION:Hebammen Praxisgemeinschaft MenschensKinder\, Goethestraße 22\, Heilbronn\, 74076\, Deutschland
CATEGORIES:Bühnenkunst,Sport,Vorträge, Lesungen und Workshops
ATTACH;FMTTYPE=image/jpeg:https://heilbronn.siller.io/wp-content/uploads/2025/07/6862edbcb5f90.jpg
END:VEVENT
BEGIN:VEVENT
DTSTART;TZID=UTC:20260422T170000
DTEND;TZID=UTC:20260422T230000
DTSTAMP:20260422T030959
CREATED:20260420T011616Z
LAST-MODIFIED:20260420T011616Z
UID:1660129-1776877200-1776898800@heilbronn.siller.io
SUMMARY:Weingut Alexander Bauer - Winzers Küche
DESCRIPTION:Willkommen im Weinausschank – der WINZERS KÜCHE\, einer Besenwirtschaft\, die Tradition und Moderne vereint. Sie können hier eine Vielzahl von köstlichen Gerichten genießen\, darunter klassische Spezialitäten wie geschmorte Rinderbacken und Zwiebelrostbraten\, aber auch vegetarische Köstlichkeiten wie Pilzgulasch\, selbstgemachte Ricotta Spinat Maultaschen oder Zucchini Feta Strudel mit gemischtem Salat. \nDas Team der WINZERS KÜCHE legt großen Wert auf regionale Produkte und pflegt persönliche Beziehungen zu den meisten Produzenten. Vom Ei aus Bodenhaltung aus Brackenheim bis hin zum Brot aus Erlenbach und den Wurst- und Fleischwaren von der Metzgerei aus Heilbronn – hier weiß man genau\, woher die Lebensmittel stammen\, und vieles wird selbst hergestellt\, wie zum Beispiel alle Salate\, Soßen\, Maultaschen\, Würste und vieles mehr. \nBesucher haben außerdem die Möglichkeit\, ein Glas Wein aus dem eigenen Weinkeller zu genießen. Alle Weine aus dem Weingut können auch offen verkostet werden. Das Team ist stolz darauf\, handgemachte und ehrliche Weine zu präsentieren und die Gäste in die Leidenschaft für den Weinbau einzuführen. \nDie Öffnungszeiten des Weinausschanks sind auf der Homepage zu finden\, und Reservierungen werden gerne entgegengenommen. Das Team von WINZERS KÜCHE freut sich darauf\, die Gäste in der Besenwirtschaft willkommen zu heißen und sie kulinarisch zu verwöhnen. \n  \nÖffnungszeiten und -tage ohne Gewähr. Änderungen jederzeit möglich.\nBitte auf der Website des Weinguts vor jedem Besuch prüfen.
URL:https://heilbronn.siller.io/event/4466-2026-04-22/
LOCATION:Weingut Bauer\, Spitzwegstraße 15/1\, Heilbronn-Sontheim\, 74081\, Deutschland
CATEGORIES:Besenkalender
ATTACH;FMTTYPE=image/jpeg:https://heilbronn.siller.io/wp-content/uploads/2026/02/bauer_front_nacht.jpg
END:VEVENT
BEGIN:VEVENT
DTSTART;TZID=UTC:20260422T180000
DTEND;TZID=UTC:20260422T203000
DTSTAMP:20260422T030959
CREATED:20260420T015926Z
LAST-MODIFIED:20260420T015926Z
UID:1863960-1776880800-1776889800@heilbronn.siller.io
SUMMARY:EARTH WEEK HHN: Hybride Diskussionsveranstaltung - KI trifft Gesellschaft. Wirkung auf Mensch und Umwelt.
DESCRIPTION:Künstliche Intelligenz ist eines der prägenden Themen unserer Zeit. Dem Zusammendenken von Innovation und Verantwortung kommt dabei besondere Bedeutung zu. In dieser Veranstaltung sollen Aspekte der Chancen und Risiken des KI-Einsatzes\, mögliche soziale und gesellschaftliche Herausforderungen von KI\, Fragen der demokratischen Legitimation und wirksamer Handlungsprinzipien beleuchtet und diskutiert werden. Im Rahmen der Earth Week an der Hochschule Heilbronn sprechen am Earth Day\, renommierte Expert*innen der Bereiche Klimaschutz\, Nachhaltigkeit und künstliche Intelligenz (KI) ab 18 Uhr in der Aula am TechCampus in Heilbronn-Sontheim. Den Auftakt macht Professor Christian Berg am mit seinem Vortrag „Nachhaltige Zukunft mit verantwortungsvoll mit KI gestalten“. Er ist angesehener Nachhaltigkeitsexperte und Präsidiumsmitglied des Club of Rome Deutschland.\nJudith Krohn\, Forscherin für Nukleartechnik und Anlagensicherheit am Öko-Institut\, referiert im Anschluss zu „Chancen und Risiken des Einsatzes von KI am Beispiel der atomaren Endlagersuche“. \nAbgerundet wird das Vortragsprogramm von HHN-Professor Marco Wagner mit seinem Vortrag „Wie die HHN den Energiehunger der KI messbar macht“. Im anschließenden Fachpanel können die Teilnehmenden Fragen zum Thema stellen. \nDie Teilnahme an der Veranstaltung ist kostenlos in Präsenz oder Online möglich. Zur besseren Planung wird um eine Anmeldung gebeten. Die Veranstaltung ist Teil der Earth Week an der Hochschule Heilbronn.
URL:https://heilbronn.siller.io/event/9399-2026-04-22/
LOCATION:Hochschule Heilbronn: TechCampus HHN\, Max-Planck-Str. 39\, Heilbronn-Sontheim\, 74081\, Deutschland
CATEGORIES:Vorträge, Lesungen und Workshops
ATTACH;FMTTYPE=image/jpeg:https://heilbronn.siller.io/wp-content/uploads/2026/04/69ce6d4611854.jpg
END:VEVENT
BEGIN:VEVENT
DTSTART;TZID=UTC:20260422T183000
DTEND;TZID=UTC:20260422T193000
DTSTAMP:20260422T030959
CREATED:20260420T014648Z
LAST-MODIFIED:20260420T014648Z
UID:1744128-1776882600-1776886200@heilbronn.siller.io
SUMMARY:Community Run
DESCRIPTION:Community Run by ABSOLUTE RUN KAUFMANN \nDu möchtest nicht alleine laufen? Dann werde Teil unseres Community Runs! \nWir treffen uns jeden Mittwoch um 18:30 Uhr bei ABSOLUTE RUN KAUFMANN in Heilbronn.\nWenn du zum ersten Mal dabei bist\, komm bitte schon um 18:25 Uhr – dann gibt es eine kurze Einweisung für neue Läuferinnen und Läufer. \nDie Teilnahme ist kostenlos und unser Team begleitet den Lauf. \nGemeinsam laufen wir eine festgelegte Strecke von 5 Kilometern. Damit jede und jeder das passende Tempo findet\, bieten wir in der Regel drei Tempogruppen an: \n5:00 min/km Pace\n6:00 min/km Pace\n7:00 min/km Pace \nSo kannst du ganz einfach die Gruppe wählen\, die am besten zu deinem Tempo passt. \nFür die richtige Stimmung sorgt außerdem ein besonderer Begleiter: Ein Läufer mit einer Boombox auf dem Rücken\, der uns unterwegs mit dem passenden Beat durch Heilbronn begleitet! \nNach dem Lauf treffen wir uns noch zu einem Get-together in unserem Store und Community Hub. Hier kannst du andere Läuferinnen und Läufer kennenlernen\, dich austauschen und den Abend gemeinsam ausklingen lassen. \nAls kleines Extra gibt es für alle Teilnehmer ein alkoholfreies Erdinger – natürlich kostenlos. \nKomm vorbei\, lauf mit und werde Teil der Community! \nDarüber hinaus laden regelmäßig unsere Lieferanten zu Test & Try Events ein. Dabei kannst du die aktuellen Laufschuhe der jeweiligen Running Brand im Rahmen des Community Runs kostenlos testen. Die Termine hierfür werden auf der Infotafel im Store sowie über unsere Social-Media-Kanäle angekündigt. \nIm Store stehen Umkleide- und Aufbewahrungsmöglichkeiten zur Verfügung. \nWir freuen uns auf deine Teilnahme!
URL:https://heilbronn.siller.io/event/9210-2026-04-22/
LOCATION:ABSOLUTE RUN Kaufmann\, Fleiner Straße 20\, Heilbronn\, 74072\, Deutschland
CATEGORIES:Erlebniswochen,Sport
ATTACH;FMTTYPE=image/jpeg:https://heilbronn.siller.io/wp-content/uploads/2026/03/69aab8fed3c86.jpg
END:VEVENT
BEGIN:VEVENT
DTSTART;TZID=UTC:20260422T183000
DTEND;TZID=UTC:20260422T200000
DTSTAMP:20260422T030959
CREATED:20260420T013542Z
LAST-MODIFIED:20260420T013542Z
UID:1663796-1776882600-1776888000@heilbronn.siller.io
SUMMARY:Quartiersdialog
DESCRIPTION:Hier haben SIE das Sagen! Wir informieren sie über die aktuellen Veranstaltungen und Angebote im Quartierszentrum. Außerdem sind wir gespannt auf ihre Wünsche und Ideen und freuen uns auf den Austausch mit ihnen. Es gibt Snacks und Getränke. Ohne Anmeldung\, einfach vorbeikommen.\nDie Veranstaltung findet in der Happelstraße 17 statt.
URL:https://heilbronn.siller.io/event/8963-2026-04-22/
LOCATION:Quartierszentrum Heilbronner Süden\, Happelstr. 17\, Heilbronn\, 74074\, Deutschland
CATEGORIES:Vorträge, Lesungen und Workshops
ATTACH;FMTTYPE=image/jpeg:https://heilbronn.siller.io/wp-content/uploads/2026/02/69735cd65c80e.jpg
END:VEVENT
BEGIN:VEVENT
DTSTART;TZID=UTC:20260422T193000
DTEND;TZID=UTC:20260422T235959
DTSTAMP:20260422T030959
CREATED:20260420T012302Z
LAST-MODIFIED:20260420T012302Z
UID:527307-1776886200-1776902399@heilbronn.siller.io
SUMMARY:WKO x Herbert Schuch - (Fast) nur Beethoven
DESCRIPTION:"Passion" und "Illusion" sind zwei Grundvoraussetzungen Risto Joost Leitung für die Entstehung musikhistorischer Meilensteine. Eingeleitet von den gleichnamigen\, das unendliche Texturpotenzial des Streichorchesters hervorragend ausnutzenden Sätzen Erkki-Sven Tüürs\, der zu den herausragendsten Komponisten der Gegenwart gehört\, spannt sich der musikalische Bogen des Abends bis hin zur bahnbrechenden "Eroica"\, dem Grundstein der großen klassisch-romantischen Sinfonie\, die Beethoven selbst als sein bedeutendstes Werk bezeichnet. Im Mittelpunkt steht des Maestros drittes Klavierkonzert\, das erste mit sinfonischen Merkmalen\, die der Gattung aus dem Salon in den Konzertsaal verhelfen sollten. Der dem WKO durch zahlreiche Projekte eng verbundene Pianist Herbert Schuch gilt als ein Meister der Gestaltungskunst und präsentiert "pure Musikalität in pianistischer Perfektion" (Pedro Obiera\, Westdeutsche Allgemeine Zeitung).
URL:https://heilbronn.siller.io/event/7918-2026-04-22/
LOCATION:Harmonie Heilbronn\, Allee 28\, Heilbronn\, 74072\, Deutschland
CATEGORIES:Konzerte
ATTACH;FMTTYPE=image/jpeg:https://heilbronn.siller.io/wp-content/uploads/2025/07/6867cba94e971.jpg
END:VEVENT
BEGIN:VEVENT
DTSTART;TZID=UTC:20260422T193000
DTEND;TZID=UTC:20260422T235959
DTSTAMP:20260422T030959
CREATED:20260420T012951Z
LAST-MODIFIED:20260420T012951Z
UID:1912354-1776886200-1776902399@heilbronn.siller.io
SUMMARY:Lazarus
DESCRIPTION:Mit englischen und deutschen Übertiteln \n"Look up here\, I’m in heaven\, I’ve got scars that can’t be seen …" ("Schaut hier hoch\, ich bin im Himmel. Ich habe Narben\, die nicht zu sehen sind …")\nEs sind die ersten Liedzeilen von David Bowies "Lazarus"\, dem titelgebenden Eröffnungssong seines gleichnamigen Musicals. Markante Zeilen. Prophetische Zeilen. Niemand ahnte\, dass die Uraufführung des Musicals am 7. Dezember 2015 in New York Bowies letzter öffentlicher Auftritt sein würde. Seine schwere Erkrankunghielt er zu diesem Zeitpunkt geheim. Der Ausnahmekünstler Bowie war an jenem Abend glücklich\, sein gemeinsam mit dem irischen Dramatiker Enda Walsh geschriebenes Musical auf der Bühne zu sehen. Es war ein langgehegter Traum. Seit David Bowie 1976 die Hauptrolle in dem Film "The Man Who Fell to Earth" gespielt hat\, beschäftigte ihn der Stoff. \nDer Außerirdische Thomas Jerome Newton kommt zur Erde\, um Wasser für seinen ausgedörrten Planeten zu besorgen und gründet ein High-Tech-Milliardenunternehmen\, um ein Raumschiff für seine Rückkehr bauen zu können. Doch Newton verfällt der Geschäfts- und Konsumwelt mit all ihren Tücken\, verliebt sich in das Erdenmädchen Mary Lou und verliert sein Ziel aus den Augen. Zynisch und desillusioniert endet Newton als ein Erdbewohner unter vielen. Doch er kann nicht altern und nicht sterben.\nAn dieser Stelle stricken Bowie und Walsh die Geschichte weiter. Newton lebt unter uns\, verbringt seine Tage vor dem Fernseher und trinkt Gin. Er wird von den Dämonen seiner Vergangenheit gequält\, die er im Alkohol zu ertränken versucht\, und trauert seiner verlorenen Liebe Mary Lou nach. Seine Unsterblichkeit peinigt ihn\, und er sehnt sich nach Erlösung. Als ein junges Mädchen\, eine verlorene Seele wie er\, in sein Leben tritt\, schöpft Newton Hoffnung: Könnte sie ihm dabei helfen\, seine lang ersehnte Reise anzutreten? \n"Lazarus" versammelt Bowies Welthits wie "Absolute Beginners"\, "This Is Not America" und "Life on Mars?". Und es enthält vier neue Stücke\, die extra für dieses Musical geschrieben wurden\, unter anderem das titelgebende "Lazarus" – insgesamt bestimmen 17 großartige Bowie-Songs den Soundtrack. Gut einen Monat nach der Uraufführung starb Bowie am 10. Januar 2016. Im Nachhinein wird diese Geschichte des zum ewigen Leben verdammten Mannes\, der sich ins Jenseits sehnt\, als sein Vermächtnis gesehen. Ein Werk\, das zwischen Traum und Wirklichkeit changiert und über die Sinnhaftigkeit menschlichen Daseins philosophiert. Und über den Tod\, der zum Leben gehört. Der biblische Lazarus gilt als Symbol der Wiederauferstehung. David Bowie hat sich mit seiner Musik ohnehin unsterblich gemacht. \nEin Musical von David Bowie und Enda Walsh nach dem Roman "The Man Who Fell To Earth" von Walter Tevis | Deutsch von Peter Torberg.
URL:https://heilbronn.siller.io/event/8800-2026-04-22/
LOCATION:Theater Heilbronn: Großes Haus\, Berliner Platz 1\, Heilbronn\, 74072\, Deutschland
CATEGORIES:Bühnenkunst
ATTACH;FMTTYPE=image/jpeg:https://heilbronn.siller.io/wp-content/uploads/2026/04/Lazarus_1.jpg
END:VEVENT
END:VCALENDAR